BEGIN:VCALENDAR
VERSION:2.0
X-WR-TIMEZONE:America/Guadeloupe
CALSCALE:GREGORIAN
PRODID:-//IPEOS/Calendar//NONSGML v1.0//FR
X-WR-CALNAME;VALUE=TEXT:lemoule.fr - Agenda
X-WR-RELCALID:article/agenda
BEGIN:VEVENT
SUMMARY:Rando VTT au Moule
UID:evenement734 @ https://www.lemoule.fr
DTSTAMP:20260421T193756Z
DTSTART:20260426T103000Z
DTEND:20260426T123000Z
CREATED:20260421T193756Z
LAST-MODIFIED:20260421T233756Z
DESCRIPTION:La Ville du Moule informe la population de l’organisation d’une randonnée VTT sur le territoire moulien. Dimanche 26 avril 2026 Rendez-vous à 6h30 Durée : 1h30 à 2h Tarif : 5 € Départ : Service des sports Les participants sont invités à se munir d’un casque (si possible)\, d’une tenue de sport\, de chaussures fermées et d’un bandana. Une collation sera offerte à l’arrivée. Informations : 05 90 22 44 40 / 05 90 22 44 44
CATEGORIES:Agenda
URL:https://www.lemoule.fr/article/agenda?id_evenement=734

STATUS:CONFIRMED
END:VEVENT
END:VCALENDAR

