BEGIN:VCALENDAR
VERSION:2.0
X-WR-TIMEZONE:America/Guadeloupe
CALSCALE:GREGORIAN
PRODID:-//IPEOS/Calendar//NONSGML v1.0//FR
X-WR-CALNAME;VALUE=TEXT:lemoule.fr - Agenda
X-WR-RELCALID:article/agenda
BEGIN:VEVENT
SUMMARY:Marche nocturne 
UID:evenement733 @ https://www.lemoule.fr
DTSTAMP:20260420T164620Z
DTSTART:20260424T223000Z
DTEND:20260425T003000Z
CREATED:20260420T164620Z
LAST-MODIFIED:20260420T204620Z
LOCATION:Service des sports - L'Autre Bord
DESCRIPTION:Envie de bouger sous les étoiles ? Participez à notre marche nocturne le vendredi 24 avril 2026 ! Une excellente occasion de faire du sport dans une ambiance conviviale. Rendez-vous à 18h30 au Service des Sports (l'Autre-Bord) Tarif : 3 € Equipement obligatoire : Gilet ou tee-shirt fluorescent Lampe frontale Eau Bonnes chaussures de marche Collation prévue à l’arrivée !
CATEGORIES:Agenda
URL:https://www.lemoule.fr/article/agenda?id_evenement=733

STATUS:CONFIRMED
END:VEVENT
END:VCALENDAR

